BEGIN:VCALENDAR
VERSION:2.0
PRODID:-//affarshogskolan.se//iCal Event Maker
CALSCALE:GREGORIAN
BEGIN:VTIMEZONE
TZID:UTC
TZURL:http://tzurl.org/zoneinfo-outlook/UTC
X-LIC-LOCATION:UTC
BEGIN:DAYLIGHT
TZOFFSETFROM:+0100
TZOFFSETTO:+0200
TZNAME:CEST
DTSTART:19700329T020000
RRULE:FREQ=YEARLY;BYMONTH=3;BYDAY=-1SU
END:DAYLIGHT
BEGIN:STANDARD
TZOFFSETFROM:+0200
TZOFFSETTO:+0100
TZNAME:CET
DTSTART:19701025T030000
RRULE:FREQ=YEARLY;BYMONTH=10;BYDAY=-1SU
END:STANDARD
END:VTIMEZONE
BEGIN:VEVENT
DTSTAMP:20260429T121148Z
UID:20260429T121148Z-d23e9575c821298999d383e7076cf427a22d5b846afb59e8a8bed9e0a1462b00439d74b2a4651d8176cc532fa91da43c50303cff3b56e147fc5e3617d9727f99@affarshogskolan.se
DTSTART;TZID=UTC:20260429T140000
DTEND;TZID=UTC:20260429T150000
SUMMARY:Digital infoträff 22 april: Redovisningsekonom Linköping
URL:https://affarshogskolan.se/event/digital-infotraff-29-april-redovisningsekonom-linkoping-2/
DESCRIPTION:Välkommen till vår digitala infoträff den 29 april – få information om Affärsinriktad redovisningsekonom i Linköping. Länk: https://teams.microsoft.com/meet/32617659507053?p=NM0GhGJDISzxcicO2k
X-ALT-DESC;FMTTYPE=text/html:<p>Välkommen till vår digitala infoträff den 29 april – få information om Affärsinriktad redovisningsekonom i Linköping.</p> <p>Länk: <a href="https://teams.microsoft.com/meet/32617659507053?p=NM0GhGJDISzxcicO2k">https://teams.microsoft.com/meet/32617659507053?p=NM0GhGJDISzxcicO2k</a></p>
LOCATION:Alkagatan 6, Linköping, Sverige
END:VEVENT
END:VCALENDAR
